BEGIN:VCALENDAR
VERSION:2.0
PRODID:-//ChamberMaster//Event Calendar 2.0//EN
METHOD:PUBLISH
X-PUBLISHED-TTL:P3D
REFRESH-INTERVAL:P3D
CALSCALE:GREGORIAN
BEGIN:VEVENT
DTSTART:20160219T140000Z
DTEND:20160219T150000Z
X-MICROSOFT-CDO-ALLDAYEVENT:FALSE
SUMMARY:5 Year Plan
DESCRIPTION:5 Year Plan Meeting\n\nPillars 3 and 4\n\nReview progress on Pillars 1 and 2
X-ALT-DESC;FMTTYPE=text/html:5 Year Plan Meeting<br />\nPillars 3 and 4<br />\nReview progress on Pillars 1 and 2
LOCATION:Munster Chamber of Commerce 1005 Ridge Road Munster\, IN
UID:e.1835.3237
SEQUENCE:3
DTSTAMP:20260421T152354Z
URL:https://business.munsterchamber.org/events/details/5-year-plan-02-19-2016-3237
END:VEVENT

END:VCALENDAR
