BEGIN:VCALENDAR
VERSION:2.0
PRODID:-//ChamberMaster//Event Calendar 2.0//EN
METHOD:PUBLISH
X-PUBLISHED-TTL:P3D
REFRESH-INTERVAL:P3D
CALSCALE:GREGORIAN
BEGIN:VEVENT
DTSTART:20160112T140000Z
DTEND:20160112T150000Z
X-MICROSOFT-CDO-ALLDAYEVENT:FALSE
SUMMARY:5 year plan meeting
DESCRIPTION:
X-ALT-DESC;FMTTYPE=text/html:
LOCATION:Munster Chamber Office - Town Hall Conference Room B 1005 Ridge Road
UID:e.1835.3221
SEQUENCE:3
DTSTAMP:20260421T164414Z
URL:https://business.munsterchamber.org/events/details/5-year-plan-meeting-01-12-2016-3221
END:VEVENT

END:VCALENDAR
