BEGIN:VCALENDAR
VERSION:2.0
PRODID:-//ChamberMaster//Event Calendar 2.0//EN
METHOD:PUBLISH
X-PUBLISHED-TTL:P3D
REFRESH-INTERVAL:P3D
CALSCALE:GREGORIAN
BEGIN:VEVENT
DTSTART:20160311T180000Z
DTEND:20160311T180000Z
X-MICROSOFT-CDO-ALLDAYEVENT:FALSE
SUMMARY:A New World
DESCRIPTION:Featuring Jens Lindemann\, trumpet
X-ALT-DESC;FMTTYPE=text/html:Featuring Jens Lindemann\, trumpet
LOCATION:The Auditorium at Bethel Church
UID:e.1835.2884
SEQUENCE:3
DTSTAMP:20260421T141423Z
URL:https://business.munsterchamber.org/events/details/a-new-world-03-11-2016-2884
END:VEVENT

END:VCALENDAR
