BEGIN:VCALENDAR
VERSION:2.0
PRODID:-//ChamberMaster//Event Calendar 2.0//EN
METHOD:PUBLISH
X-PUBLISHED-TTL:P3D
REFRESH-INTERVAL:P3D
CALSCALE:GREGORIAN
BEGIN:VEVENT
DTSTART:20260205T230000Z
DTEND:20260206T010000Z
X-MICROSOFT-CDO-ALLDAYEVENT:FALSE
SUMMARY:After Hours Super Bowl Warm Up
DESCRIPTION:After Hours Super Bowl Warm Up
X-ALT-DESC;FMTTYPE=text/html:After Hours Super Bowl Warm Up&nbsp\;
LOCATION:Hyatt Place Munster 9420 Calumet Ave Munster\, IN
UID:e.1835.5092
SEQUENCE:3
DTSTAMP:20260426T024610Z
URL:https://business.munsterchamber.org/events/details/after-hours-super-bowl-warm-up-5092
END:VEVENT

END:VCALENDAR
