BEGIN:VCALENDAR
VERSION:2.0
PRODID:-//ChamberMaster//Event Calendar 2.0//EN
METHOD:PUBLISH
X-PUBLISHED-TTL:P3D
REFRESH-INTERVAL:P3D
CALSCALE:GREGORIAN
BEGIN:VEVENT
DTSTART:20140721T133000Z
DTEND:20140725T203000Z
X-MICROSOFT-CDO-ALLDAYEVENT:FALSE
SUMMARY:All American Basketball Academy is Back at Munster Parks & Recreation
DESCRIPTION:Date: July 21-25\, 2014 Registration and Information: Call Munster Parks & Recreation (219)836-7275\; Ask for Camps by Name: Full Day Combo Camp\, All Around Skills Camp (am only)\; All Star Shooting Camp (pm only). What Makes us Different from other Camps? Our camp is designed to teach the game in a way that instills self confidence\, teaches leadership sportsmanship\, and how to be a better teammate through positive motivation/high energy from coaching staff. We use scientifically proven sports performance coordination and agility training to help both our new athletes and those already playing at a higher level\, gain in agility\, speed and coordination. Each session starts off with a life lesson and how the game of basketball relates to many things they currently encounter in their lives outside of the gym. Many parents tell us this is the best part! All our head coaches and assistant coaches have had professional and/or collegiate level experience\, and we are complimented with over 25 years of coaching experience! Utilization of video analysis to help kids watch themselves just seconds after performing a drill\, allowing them to more quickly understand what they're doing wrong and how to correct it. We offer our 100% MONEY BACK GUARANTEE which none of the other camps you will see dare offer! www.AllAmericanBasketballAcademy.com
X-ALT-DESC;FMTTYPE=text/html:Date: July 21-25\, 2014 Registration and Information: Call Munster Parks &amp\; Recreation (219)836-7275\; Ask for Camps by Name: Full Day Combo Camp\, All Around Skills Camp (am only)\; All Star Shooting Camp (pm only). What Makes us Different from other Camps? Our camp is designed to teach the game in a way that instills self confidence\, teaches leadership sportsmanship\, and how to be a better teammate through positive motivation/high energy from coaching staff. We use scientifically proven sports performance coordination and agility training to help both our new athletes and those already playing at a higher level\, gain in agility\, speed and coordination. Each session starts off with a life lesson and how the game of basketball relates to many things they currently encounter in their lives outside of the gym. Many parents tell us this is the best part! All our head coaches and assistant coaches have had professional and/or collegiate level experience\, and we are complimented with over 25 years of coaching experience! Utilization of video analysis to help kids watch themselves just seconds after performing a drill\, allowing them to more quickly understand what they&#39\;re doing wrong and how to correct it. We offer our 100% MONEY BACK GUARANTEE which none of the other camps you will see dare offer! www.AllAmericanBasketballAcademy.com
LOCATION:St Paul's Gym\, Door K\, 8601 Harrison Ave\, Munster\, IN 46321
UID:e.1835.514
SEQUENCE:3
DTSTAMP:20260422T144035Z
URL:https://business.munsterchamber.org/events/details/all-american-basketball-academy-is-back-at-munster-parks-recreation-07-21-2014-514
END:VEVENT

END:VCALENDAR
