BEGIN:VCALENDAR
VERSION:2.0
PRODID:-//ChamberMaster//Event Calendar 2.0//EN
METHOD:PUBLISH
X-PUBLISHED-TTL:P3D
REFRESH-INTERVAL:P3D
CALSCALE:GREGORIAN
BEGIN:VEVENT
DTSTART:20160127T140000Z
DTEND:20160127T150000Z
X-MICROSOFT-CDO-ALLDAYEVENT:FALSE
SUMMARY:Ambassador Committee
DESCRIPTION:Ambassador Meeting
X-ALT-DESC;FMTTYPE=text/html:Ambassador Meeting
LOCATION:Munster Chamber of Commerce Munster Town Hall 1005 Ridge Road Munster\, IN
UID:e.1835.3236
SEQUENCE:3
DTSTAMP:20260421T164445Z
URL:https://business.munsterchamber.org/events/details/ambassador-committee-01-27-2016-3236
END:VEVENT

END:VCALENDAR
