BEGIN:VCALENDAR
VERSION:2.0
PRODID:-//ChamberMaster//Event Calendar 2.0//EN
METHOD:PUBLISH
X-PUBLISHED-TTL:P3D
REFRESH-INTERVAL:P3D
CALSCALE:GREGORIAN
BEGIN:VEVENT
DTSTART:20160525T130000Z
DTEND:20160525T140000Z
X-MICROSOFT-CDO-ALLDAYEVENT:FALSE
SUMMARY:Ambassador Committee Meeting
DESCRIPTION:Bimonthly Ambassador Committee meeting
X-ALT-DESC;FMTTYPE=text/html:Bimonthly Ambassador Committee meeting
LOCATION:Munster Chamber of Commerce Office Munster Town Hall 1005 Ridge Road Munster\, IN
UID:e.1835.3274
SEQUENCE:3
DTSTAMP:20260421T130330Z
URL:https://business.munsterchamber.org/events/details/ambassador-committee-meeting-05-25-2016-3274
END:VEVENT

END:VCALENDAR
