BEGIN:VCALENDAR
VERSION:2.0
PRODID:-//ChamberMaster//Event Calendar 2.0//EN
METHOD:PUBLISH
X-PUBLISHED-TTL:P3D
REFRESH-INTERVAL:P3D
CALSCALE:GREGORIAN
BEGIN:VEVENT
DTSTART:20150923T130000Z
DTEND:20150923T140000Z
X-MICROSOFT-CDO-ALLDAYEVENT:FALSE
SUMMARY:Ambassador Meeting
DESCRIPTION:Ambassador meeting\n\nOn Agenda\n\nPotential New members\n\nNew members\n\nUpcoming Events\n\nResponsibilities at Membership Meetings\n\nWorkshop\,  Yes and Then\n\n"Not So Scary" Networking Meeting
X-ALT-DESC;FMTTYPE=text/html:Ambassador meeting<br />\nOn Agenda<br />\nPotential New members<br />\nNew members<br />\nUpcoming Events<br />\nResponsibilities at Membership Meetings<br />\nWorkshop\,&nbsp\; Yes and Then<br />\n&quot\;Not So Scary&quot\; Networking Meeting
LOCATION:Location: Center for Visual and Performing Arts Room - Upper Level\, Meeting Room - located behind the Box Office
UID:e.1835.2874
SEQUENCE:3
DTSTAMP:20260421T220016Z
URL:https://business.munsterchamber.org/events/details/ambassador-meeting-09-23-2015-2874
END:VEVENT

END:VCALENDAR
