BEGIN:VCALENDAR
VERSION:2.0
PRODID:-//ChamberMaster//Event Calendar 2.0//EN
METHOD:PUBLISH
X-PUBLISHED-TTL:P3D
REFRESH-INTERVAL:P3D
CALSCALE:GREGORIAN
BEGIN:VEVENT
DTSTART:20151125T140000Z
DTEND:20151125T150000Z
X-MICROSOFT-CDO-ALLDAYEVENT:FALSE
SUMMARY:Ambassador Meeting
DESCRIPTION:Ambassador meeting\n\nOn Agenda\n\nPotential New members\n\nNew members\n\nUpcoming Events\n\nResponsibilities at Membership Meetings\n\nReview Ambassador assignments\n\nOffer Workshop through Yes and Then
X-ALT-DESC;FMTTYPE=text/html:Ambassador meeting<br>\nOn Agenda<br>\nPotential New members<br>\nNew members<br>\nUpcoming Events<br>\nResponsibilities at Membership Meetings<br>\nReview Ambassador assignments<br>\nOffer Workshop through Yes and Then
LOCATION:Location: Center for Visual and Performing Arts Room - Upper Level\, Meeting Room - located behind the Box Office
UID:e.1835.2875
SEQUENCE:3
DTSTAMP:20260421T192451Z
URL:https://business.munsterchamber.org/events/details/ambassador-meeting-11-25-2015-2875
END:VEVENT

END:VCALENDAR
