BEGIN:VCALENDAR
VERSION:2.0
PRODID:-//ChamberMaster//Event Calendar 2.0//EN
METHOD:PUBLISH
X-PUBLISHED-TTL:P3D
REFRESH-INTERVAL:P3D
CALSCALE:GREGORIAN
BEGIN:VEVENT
DTSTART:20150826T130000Z
DTEND:20150826T140000Z
X-MICROSOFT-CDO-ALLDAYEVENT:FALSE
SUMMARY:Ambassador Meeting - Not So Scary Planning Meeting
DESCRIPTION:Ambassador Meeting   \n\nNot So Scary Planning Meeting\n\nBRING IDEAS FOR THIS WELL ATTENDED NETWORKING MEETING
X-ALT-DESC;FMTTYPE=text/html:Ambassador Meeting&nbsp\;&nbsp\;&nbsp\;<br />\nNot So Scary Planning Meeting<br />\nBRING IDEAS FOR THIS WELL ATTENDED NETWORKING MEETING<br />\n&nbsp\;
LOCATION:Center for Visual and Performing Arts 1040 Ridge Road Munster\, IN 46321
UID:e.1835.3018
SEQUENCE:3
DTSTAMP:20260421T230538Z
URL:https://business.munsterchamber.org/events/details/ambassador-meeting-not-so-scary-planning-meeting-08-26-2015-3018
END:VEVENT

END:VCALENDAR
