BEGIN:VCALENDAR
VERSION:2.0
PRODID:-//ChamberMaster//Event Calendar 2.0//EN
METHOD:PUBLISH
X-PUBLISHED-TTL:P3D
REFRESH-INTERVAL:P3D
CALSCALE:GREGORIAN
BEGIN:VEVENT
DTSTART:20160131T000000Z
DTEND:20160131T050000Z
X-MICROSOFT-CDO-ALLDAYEVENT:FALSE
SUMMARY:Annual Dinner 2016
DESCRIPTION:2016 Annual Dinner
X-ALT-DESC;FMTTYPE=text/html:2016 Annual Dinner
LOCATION:The Center for Visual and Performing Arts 1040 Ridge Road Munster\, IN 46321
UID:e.1835.3031
SEQUENCE:3
DTSTAMP:20260421T164259Z
URL:https://business.munsterchamber.org/events/details/annual-dinner-2016-01-30-2016-3031
END:VEVENT

END:VCALENDAR
