BEGIN:VCALENDAR
VERSION:2.0
PRODID:-//ChamberMaster//Event Calendar 2.0//EN
METHOD:PUBLISH
X-PUBLISHED-TTL:P3D
REFRESH-INTERVAL:P3D
CALSCALE:GREGORIAN
BEGIN:VEVENT
DTSTART:20260131T233000Z
DTEND:20260201T040000Z
X-MICROSOFT-CDO-ALLDAYEVENT:FALSE
SUMMARY:Annual Dinner 2026
DESCRIPTION:Annual Dinner 2026
X-ALT-DESC;FMTTYPE=text/html:Annual Dinner 2026
LOCATION:The Center for Visual and Performing Arts 1040 Ridge Road\, Munster\, IN
UID:e.1835.5057
SEQUENCE:3
DTSTAMP:20260426T035315Z
URL:https://business.munsterchamber.org/events/details/annual-dinner-2026-5057
END:VEVENT

END:VCALENDAR
