BEGIN:VCALENDAR
VERSION:2.0
PRODID:-//ChamberMaster//Event Calendar 2.0//EN
METHOD:PUBLISH
X-PUBLISHED-TTL:P3D
REFRESH-INTERVAL:P3D
CALSCALE:GREGORIAN
BEGIN:VEVENT
DTSTART:20160218T190000Z
DTEND:20160218T200000Z
X-MICROSOFT-CDO-ALLDAYEVENT:FALSE
SUMMARY:Annual Dinner Committee Meeting
DESCRIPTION:Annual Dinner 2016 Follow up meeting\n\nAnnual Dinner 2017 thoughts
X-ALT-DESC;FMTTYPE=text/html:Annual Dinner 2016 Follow up meeting<br />\nAnnual Dinner 2017 thoughts
LOCATION:Munster Chamber of Commerce Town Hall 1005 Ridge Road Munster\, IN 46321
UID:e.1835.3241
SEQUENCE:3
DTSTAMP:20260421T153338Z
URL:https://business.munsterchamber.org/events/details/annual-dinner-committee-meeting-02-18-2016-3241
END:VEVENT

END:VCALENDAR
