BEGIN:VCALENDAR
VERSION:2.0
PRODID:-//ChamberMaster//Event Calendar 2.0//EN
METHOD:PUBLISH
X-PUBLISHED-TTL:P3D
REFRESH-INTERVAL:P3D
CALSCALE:GREGORIAN
BEGIN:VEVENT
DTSTART:20150604T003000Z
DTEND:20150604T030000Z
X-MICROSOFT-CDO-ALLDAYEVENT:FALSE
SUMMARY:Big Fish Benefit Performance
DESCRIPTION:Benefit performance of Big Fish\n\nWednesday night\, June 3\, 7:30 pm\n\nTheatre at the Center\n\n\n\nReservations online at Munster Chamber.org or\n\nTheater at the Center Box Office (219) 836 - 3259\n\n\n\nSpecial event ticket price:  $15\n\nCash or Check - checks payable to:  Bernie Yvon Memorial Fund\n\nCredit Cards accepted online only at MusnterChamber.org through June 2\n\n\n\n\n\n\n\n\n\nAs you all know BIG FISH has been a very special show here at Theatre at the Center not only because of the content but because of our cast and crew coming together to do the show in memory of our dear friend Bernie Yvon who tragically died last September while on his way to rehearsal at our theatre. Bernie had been cast as Edward Bloom\, the leading role\, before his death. Bill Pullinsi\, our director\, was able to engage the remarkable Stef Tovar to take on the challenging role. Stef came to us with a wonderful idea to add an extra performance during the final week of the run for the theatre community\, with all proceeds being directed to the Bernie Yvon memorial fund\, which provides scholarships to promising students in the performing arts.\n\n\n\nWe are pleased to announce that Theatre at the Center will be adding an extra performance on Wednesday\, June 3rd at 7:30PM.\n\n\n\nTickets will be on sale for a suggested donation of $15 with general admission seating. You may call to reserve tickets beforehand at the box office at any time within the next week. Only CASH or CHECKS made out to the Bernie Yvon Memorial Fund will be accepted at the box office the night of the show-- we will not be able to accept any debit or credit cards. By special arrangement with Actors Equity Association\, all our performers\, musicians\, staff and crew are donating their time to this wonderful cause. Theatrical Rights Worldwide\, the licensing agency for the show and its creators have agreed to waive their royalties to also contribute to Bernie?s Memorial Fund.\n\n\n\n?The Bernie Yvon Memorial Fund was established by Bernie's parents to encourage and assist students who wish to pursue a career in the Performing Arts. Your donation will help fund the education of selected students and support organizations who embody the passion and spirit that Bernie shared with us all on stage and off. The scholarship will be available for any higher education institutions in the United States\, from community colleges to universities?
X-ALT-DESC;FMTTYPE=text/html:<span class="fsl">Benefit performance of Big Fish<br />\nWednesday night\, June 3\, 7:30 pm<br />\nTheatre at the Center<br />\n<br />\n<span class="text_exposed_show">Reservations online at Munster Chamber.org or<br />\nTheater at the Center Box Office (219) 836 - 3259<br />\n<br />\nSpecial event ticket price:&nbsp\; $15<br />\nCash or Check - checks payable to:&nbsp\; Bernie Yvon Memorial Fund<br />\nCredit Cards accepted online only at MusnterChamber.org through June 2</span><br />\n<br />\n<br />\n<br />\n<br />\nAs you all know BIG FISH has been a very special show here at Theatre at the Center not only because of the content but because of our cast and crew coming together to do the show in memory of our dear friend Bernie Yvon who tragically died last September while on his way to rehearsal at our theatre. Bernie had been cast as Edward Bloom\, the leading role\, before his death. Bill Pullinsi\, our director\, was able to engage the remarkable Stef Tovar to take on the challenging role. Stef came to us with a wonderful idea to add an extra performance during the final week of the run for the theatre community\, with all proceeds being directed to the Bernie Yvon memorial fund\, which provides scholarships to promising <span class="text_exposed_show">students in the performing arts.<br />\n<br />\nWe are pleased to announce that Theatre at the Center will be adding an extra performance on Wednesday\, June 3rd at 7:30PM.<br />\n<br />\nTickets will be on sale for a suggested donation of $15 with general admission seating. You may call to reserve tickets beforehand at the box office at any time within the next week. Only CASH or CHECKS made out to the Bernie Yvon Memorial Fund will be accepted at the box office the night of the show-- we will not be able to accept any debit or credit cards. By special arrangement with Actors Equity Association\, all our performers\, musicians\, staff and crew are donating their time to this wonderful cause. Theatrical Rights Worldwide\, the licensing agency for the show and its creators have agreed to waive their royalties to also contribute to Bernie?s Memorial Fund.<br />\n<br />\n?The Bernie Yvon Memorial Fund was established by Bernie&#39\;s parents to encourage and assist students who wish to pursue a career in the Performing Arts. Your donation will help fund the education of selected students and support organizations who embody the passion and spirit that Bernie shared with us all on stage and off. The scholarship will be available for any higher education institutions in the United States\, from community colleges to universities?</span></span><br />\n&nbsp\;
LOCATION:
UID:e.1835.2876
SEQUENCE:3
DTSTAMP:20260422T012610Z
URL:https://business.munsterchamber.org/events/details/big-fish-benefit-performance-06-03-2015-2876
END:VEVENT

END:VCALENDAR
