BEGIN:VCALENDAR
VERSION:2.0
PRODID:-//ChamberMaster//Event Calendar 2.0//EN
METHOD:PUBLISH
X-PUBLISHED-TTL:P3D
REFRESH-INTERVAL:P3D
CALSCALE:GREGORIAN
BEGIN:VEVENT
DTSTART:20150602T130000Z
DTEND:20150602T150000Z
X-MICROSOFT-CDO-ALLDAYEVENT:FALSE
SUMMARY:Board Meeting
DESCRIPTION:Quarterly Board Meeting. \n\nAgenda to include recaps of recent events\, reports from committees on upcoming events and update on state of the Munster Chamber
X-ALT-DESC;FMTTYPE=text/html:Quarterly Board Meeting.&nbsp\;<br />\nAgenda to include recaps of recent events\, reports from committees on upcoming events and update on state of the Munster Chamber
LOCATION:Center for Visual and Performing Arts Meeting Room - upper level behind box office 1040 Ridge Road Munster\, IN 46321
UID:e.1835.2666
SEQUENCE:3
DTSTAMP:20260422T012733Z
URL:https://business.munsterchamber.org/events/details/board-meeting-06-02-2015-2666
END:VEVENT

END:VCALENDAR
