BEGIN:VCALENDAR
VERSION:2.0
PRODID:-//ChamberMaster//Event Calendar 2.0//EN
METHOD:PUBLISH
X-PUBLISHED-TTL:P3D
REFRESH-INTERVAL:P3D
CALSCALE:GREGORIAN
BEGIN:VEVENT
DTSTART:20160607T130000Z
DTEND:20160607T150000Z
X-MICROSOFT-CDO-ALLDAYEVENT:FALSE
SUMMARY:Board Meeting 6/7/2016
DESCRIPTION:Board Meeting 6/7/2016
X-ALT-DESC;FMTTYPE=text/html:Board Meeting 6/7/2016
LOCATION:Munster Town Hall 1005 Ridge Road Munster
UID:e.1835.3085
SEQUENCE:3
DTSTAMP:20260421T104649Z
URL:https://business.munsterchamber.org/events/details/board-meeting-6-7-2016-06-07-2016-3085
END:VEVENT

END:VCALENDAR
