BEGIN:VCALENDAR
VERSION:2.0
PRODID:-//ChamberMaster//Event Calendar 2.0//EN
METHOD:PUBLISH
X-PUBLISHED-TTL:P3D
REFRESH-INTERVAL:P3D
CALSCALE:GREGORIAN
BEGIN:VEVENT
DTSTART:20260505T140000Z
DTEND:20260505T150000Z
X-MICROSOFT-CDO-ALLDAYEVENT:FALSE
SUMMARY:Board of Directors Meeting
DESCRIPTION:Board of Directors Meeting
X-ALT-DESC;FMTTYPE=text/html:Board of Directors Meeting
LOCATION:Munster Town Hall Main Meeting Room 1005 Ridge Road Munster\, IN
UID:e.1835.5082
SEQUENCE:3
DTSTAMP:20260426T011857Z
URL:https://business.munsterchamber.org/events/details/board-of-directors-meeting-5082
END:VEVENT

END:VCALENDAR
