BEGIN:VCALENDAR
VERSION:2.0
PRODID:-//ChamberMaster//Event Calendar 2.0//EN
METHOD:PUBLISH
X-PUBLISHED-TTL:P3D
REFRESH-INTERVAL:P3D
CALSCALE:GREGORIAN
BEGIN:VEVENT
DTSTART:20151205T150000Z
DTEND:20151205T180000Z
X-MICROSOFT-CDO-ALLDAYEVENT:FALSE
SUMMARY:Breakfast with Santa 2015
DESCRIPTION:Munster Chamber of Commerce\n\n\n\n33rd Annual Breakfast with Santa\, Mrs. Claus and Friends
X-ALT-DESC;FMTTYPE=text/html:<span style="font-size: 26px\;"><span style="font-family: comic sans ms\;"><strong><span style="color: rgb(0\, 128\, 0)\;">Munster Chamber of Commerce</span><br />\n<br />\n<span style="color: rgb(255\, 0\, 0)\;">33rd Annual Breakfast with Santa\, Mrs. Claus and Friends</span></strong></span></span>
LOCATION:Wilbur Wright Middle School Cafeteria 8650 Columbia Avenue Munster\, IN 46321
UID:e.1835.2836
SEQUENCE:3
DTSTAMP:20260421T192529Z
URL:https://business.munsterchamber.org/events/details/breakfast-with-santa-2015-12-05-2015-2836
END:VEVENT

END:VCALENDAR
