BEGIN:VCALENDAR
VERSION:2.0
PRODID:-//ChamberMaster//Event Calendar 2.0//EN
METHOD:PUBLISH
X-PUBLISHED-TTL:P3D
REFRESH-INTERVAL:P3D
CALSCALE:GREGORIAN
BEGIN:VEVENT
DTSTART:20150820T213000Z
DTEND:20150821T003000Z
X-MICROSOFT-CDO-ALLDAYEVENT:FALSE
SUMMARY:Brewing Business
DESCRIPTION:TO REGISTER ONLINE CLICK THE BELOW LINK\n\n			\n\n			https://events.r20.constantcontact.com/register/eventReg?oeidk=a07eb9f1fwt0a641e79&oseq=&c=&ch=\n\n			\n\n			Learn from BUSINESS owners who are building on their SUCCESS. Network with business owners\,and organizations that can help you connect and create a business plan.\n		\n	\n\n \n\n\n	\n		\n			\n			\n				Listen to the EXPERTS who assist INDIANA BUSINESS grow and prosper.\n				Business Owners are brought into the spotlight to share their stories\n				Entrepreneurs have an opportunity to ask questions\,\n				Examine the key elements that help a small business survive in a highly competitive marketplace\n				Taste products and network with SCORE Business Mentors\, ISBDC\, and Chamber representatives\n				Business Panel experts are to be determined
X-ALT-DESC;FMTTYPE=text/html:<table border="0" cellpadding="0">\n	<tbody>\n		<tr>\n			<td style="padding: 0.75pt\;"><span style="color: gray\;"><a href="https://events.r20.constantcontact.com/register/eventReg?oeidk=a07eb9f1fwt0a641e79&amp\;oseq=&amp\;c=&amp\;ch="><strong><u>TO REGISTER ONLINE CLICK THE BELOW LINK<br>\n			<br>\n			https://events.r20.constantcontact.com/register/eventReg?oeidk=a07eb9f1fwt0a641e79&amp\;oseq=&amp\;c=&amp\;ch=</u></strong></a><br>\n			<br>\n			Learn from&nbsp\;BUSINESS owners who are building on their SUCCESS. Network with business owners\,and organizations that can help you connect and create a business plan.</span></td>\n		</tr>\n	</tbody>\n</table>\n&nbsp\;\n\n<table border="0" cellpadding="0">\n	<tbody>\n		<tr>\n			<td style="padding: 0.75pt\;">\n			<ul>\n				<li style="color: gray\;">Listen to the EXPERTS who assist INDIANA BUSINESS grow and prosper.</li>\n				<li style="color: gray\;">Business Owners are brought into the spotlight to share their stories</li>\n				<li style="color: gray\;">Entrepreneurs have an opportunity to ask questions\,</li>\n				<li style="color: gray\;">Examine the key elements that help a small business survive in a highly competitive marketplace</li>\n				<li style="color: gray\;">Taste products and network with SCORE Business Mentors\, ISBDC\, and Chamber representatives</li>\n				<li style="color: gray\;">Business Panel experts are to be determined</li>\n			</ul>\n			</td>\n		</tr>\n	</tbody>\n</table>\n
LOCATION:Center for Visual and Performing Arts 1040 Ridge Road Munster\, IN 46321
UID:e.1835.2887
SEQUENCE:3
DTSTAMP:20260421T230145Z
URL:https://business.munsterchamber.org/events/details/brewing-business-08-20-2015-2887
END:VEVENT

END:VCALENDAR
