BEGIN:VCALENDAR
VERSION:2.0
PRODID:-//ChamberMaster//Event Calendar 2.0//EN
METHOD:PUBLISH
X-PUBLISHED-TTL:P3D
REFRESH-INTERVAL:P3D
CALSCALE:GREGORIAN
BEGIN:VEVENT
DTSTART:20150714T170000Z
DTEND:20150714T180000Z
X-MICROSOFT-CDO-ALLDAYEVENT:FALSE
SUMMARY:Brewing Business Committee Meeting
DESCRIPTION:The purpose of the meeting is to organize vendors and panelists.  We also need a strategy to attract  attendees.  Brewing business will be held on Thursday\, August 20 from 5 - 7 pm at the Center for Visual and Performing Arts
X-ALT-DESC;FMTTYPE=text/html:The purpose of the meeting is to organize vendors and panelists.&nbsp\; We also need a strategy to attract&nbsp\; attendees.&nbsp\; Brewing business will be held on Thursday\, August 20 from 5 - 7 pm at the Center for Visual and Performing Arts
LOCATION:Munster Chamber Office
UID:e.1835.3015
SEQUENCE:3
DTSTAMP:20260422T012926Z
URL:https://business.munsterchamber.org/events/details/brewing-business-committee-meeting-07-14-2015-3015
END:VEVENT

END:VCALENDAR
