BEGIN:VCALENDAR
VERSION:2.0
PRODID:-//ChamberMaster//Event Calendar 2.0//EN
METHOD:PUBLISH
X-PUBLISHED-TTL:P3D
REFRESH-INTERVAL:P3D
CALSCALE:GREGORIAN
BEGIN:VEVENT
DTSTART:20160428T210000Z
DTEND:20160429T000000Z
X-MICROSOFT-CDO-ALLDAYEVENT:FALSE
SUMMARY:Business After Hours - Advanced Esthetics
DESCRIPTION:Business After Hours\n\nGrand Opening\n\nRaffle\, Food\, Music and Demonstrations
X-ALT-DESC;FMTTYPE=text/html:Business After Hours<br />\nGrand Opening<br />\nRaffle\, Food\, Music and Demonstrations
LOCATION:Randall Chube M.D. Advanced Esthetics M.D. 9339 Calumet Ave Suite A Munster\, IN 46321 219-513-8275 (work) aemdmunster@gmail.com
UID:e.1835.3253
SEQUENCE:3
DTSTAMP:20260421T130032Z
URL:https://business.munsterchamber.org/events/details/business-after-hours-advanced-esthetics-04-28-2016-3253
END:VEVENT

END:VCALENDAR
