BEGIN:VCALENDAR
VERSION:2.0
PRODID:-//ChamberMaster//Event Calendar 2.0//EN
METHOD:PUBLISH
X-PUBLISHED-TTL:P3D
REFRESH-INTERVAL:P3D
CALSCALE:GREGORIAN
BEGIN:VEVENT
DTSTART:20160331T220000Z
DTEND:20160401T000000Z
X-MICROSOFT-CDO-ALLDAYEVENT:FALSE
SUMMARY:Business After Hours - Downtown Hammond Council
DESCRIPTION:The Downtown Hammond Council invites you to join us at the\n\n18th Street Brewery for a ribbon cutting ceremony and networking event\n\non Thursday\, March 31 from 5-7 pm.\n\n\n\n\n\nHelp us welcome our newest neighbors to Downtown Hammond!\n\n \n\n-Ribbon cutting at 5 pm\n\n-Enjoy complementary appetizers\n\n-Cash bar (beer\, wine\, and pop)\n\n*Credit cards are now accepted.\n\n-Networking (bring lots of business cards!)\n\n-Door prizes from 18th Street Brewery\, Downtown Hammond Council\, It's Just Serendipity\, El Taco Real Restaurant\, \n\nFranciscan St. Margaret Hammond\, Efron & Efron\, P.C.\, and more!\n\n-RSVP required to itsjustserendipity@att.net or 219-512-4298: as a thank you for your RSVP\, your name will be entered in a special drawing.\n\n \n\n-18th Street Brewery is located at 5417 Oakley Avenue\, Downtown Hammond\, Indiana\n\n(Corner of Oakley and Douglas/Just east of Hohman Avenue/\n\nBetween the federal court house and the police station)\n\n \n\n-Please note that the brewery and restaurant will also be open to the public until 10 pm.\n\nYou are encouraged to stay after our networking event ends your dinner plans are taken care of!
X-ALT-DESC;FMTTYPE=text/html:<span style="color:black\;"><span style="font-family:segoe ui\,sans-serif\;">The Downtown Hammond Council invites you to join us at the</span></span><br />\n<span style="color:black\;"><span style="font-family:segoe ui\,sans-serif\;"><span id="yiv9616616230yui_3_16_0_1_1457369651226_24665">18<sup id="yiv9616616230yui_3_16_0_1_1457369651226_24667">th</sup>&nbsp\;Street Brewery for a ribbon cutting ceremony and networking event</span></span></span><br />\n<span style="color:black\;"><span style="font-family:segoe ui\,sans-serif\;"><span id="yiv9616616230yui_3_16_0_1_1457369651226_44190">on Thursday\, March 31 from 5-7 pm.</span></span></span><br />\n<br />\n<br />\n<span style="color:black\;"><span style="font-family:segoe ui\,sans-serif\;"><span id="yiv9616616230yui_3_16_0_1_1457369651226_44186">Help us welcome our newest neighbors to Downtown Hammond!</span></span></span><br />\n&nbsp\;<br />\n<span style="color:black\;"><span style="font-family:segoe ui\,sans-serif\;"><span id="yiv9616616230yui_3_16_0_1_1457369651226_87894">-Ribbon cutting at 5 pm</span></span></span><br />\n<span style="color:black\;"><span style="font-family:segoe ui\,sans-serif\;"><span id="yiv9616616230yui_3_16_0_1_1457369651226_24693">-Enjoy complementary appetizers</span></span></span><br />\n<span style="color:black\;"><span style="font-family:segoe ui\,sans-serif\;"><span id="yiv9616616230yui_3_16_0_1_1457369651226_24699">-Cash bar (beer\, wine\, and pop)</span></span></span><br />\n<span style="color:black\;"><span style="font-family:segoe ui\,sans-serif\;"><span id="yiv9616616230yui_3_16_0_1_1457369651226_24705">*Credit cards are now accepted.</span></span></span><br />\n<span style="color:black\;"><span style="font-family:segoe ui\,sans-serif\;"><span id="yiv9616616230yui_3_16_0_1_1457369651226_24711">-Networking (bring lots of business cards!)</span></span></span><br />\n<span style="color:black\;"><span style="font-family:segoe ui\,sans-serif\;"><span id="yiv9616616230yui_3_16_0_1_1457369651226_24717">-Door prizes from 18<sup id="yiv9616616230yui_3_16_0_1_1457369651226_24719">th</sup> Street Brewery\, Downtown Hammond Council\, It&rsquo\;s Just Serendipity\, El Taco Real Restaurant\,&nbsp\;</span></span></span><br />\n<span style="color:black\;"><span style="font-family:segoe ui\,sans-serif\;"><span id="yiv9616616230yui_3_16_0_1_1457369651226_24850">Franciscan St. Margaret Hammond\,&nbsp\;</span></span></span><span style="color:black\;"><span style="font-family:segoe ui\,sans-serif\;"><span id="yiv9616616230yui_3_16_0_1_1457369651226_24857">Efron &amp\; Efron\, P.C.\, and more!</span></span></span><br />\n<span style="color:black\;"><span style="font-family:segoe ui\,sans-serif\;"><span id="yiv9616616230yui_3_16_0_1_1457369651226_24731">-RSVP required to </span></span></span><span style="color:black\;"><span style="font-family:bookman old style\,serif\;"><a href="mailto:itsjustserendipity@att.net" id="yiv9616616230yui_3_16_0_1_1457369651226_24733" shape="rect" target="_blank"><span style="color:blue\;"><span id="yiv9616616230yui_3_16_0_1_1457369651226_24735">itsjustserendipity@att.net</span></span></a></span></span><span style="color:black\;"><span style="font-family:segoe ui\,sans-serif\;"><span id="yiv9616616230yui_3_16_0_1_1457369651226_24737"> or 219-512-4298: as a thank you for your RSVP\, your name will be entered in a special drawing.</span></span></span><br />\n&nbsp\;<br />\n<span style="color:black\;"><span style="font-family:segoe ui\,sans-serif\;"><span id="yiv9616616230yui_3_16_0_1_1457369651226_24749">-18<sup id="yiv9616616230yui_3_16_0_1_1457369651226_24751">th</sup> Street Brewery is located at 5417 Oakley Avenue\, Downtown Hammond\, Indiana</span></span></span><br />\n<span style="color:black\;"><span style="font-family:segoe ui\,sans-serif\;"><span id="yiv9616616230yui_3_16_0_1_1457369651226_24757">(Corner of Oakley and Douglas/Just east of Hohman Avenue/</span></span></span><br />\n<span style="color:black\;"><span style="font-family:segoe ui\,sans-serif\;"><span id="yiv9616616230yui_3_16_0_1_1457369651226_24763">Between the federal court house and the police station)</span></span></span><br />\n&nbsp\;<br />\n<span style="color:black\;"><span style="font-family:segoe ui\,sans-serif\;"><span id="yiv9616616230yui_3_16_0_1_1457369651226_24775">-Please note that the brewery and restaurant will also be open to the public until 10 pm.</span></span></span><br />\n<span style="color:black\;"><span style="font-family:segoe ui\,sans-serif\;"><span id="yiv9616616230yui_3_16_0_1_1457369651226_24653">You are encouraged to stay after our networking event ends&hellip\;your dinner plans are taken care of!</span></span></span>
LOCATION:
UID:e.1835.3247
SEQUENCE:3
DTSTAMP:20260421T143846Z
URL:https://business.munsterchamber.org/events/details/business-after-hours-downtown-hammond-council-03-31-2016-3247
END:VEVENT

END:VCALENDAR
