BEGIN:VCALENDAR
VERSION:2.0
PRODID:-//ChamberMaster//Event Calendar 2.0//EN
METHOD:PUBLISH
X-PUBLISHED-TTL:P3D
REFRESH-INTERVAL:P3D
CALSCALE:GREGORIAN
BEGIN:VEVENT
DTSTART:20160519T213000Z
DTEND:20160520T000000Z
X-MICROSOFT-CDO-ALLDAYEVENT:FALSE
SUMMARY:Business After Hours - Homewood Suites
DESCRIPTION:Ribbon Cutting Thursday\, May 19\n\n4:30 pm   7:00 pm\n\n9120 Calumet Avenue\n\nMunster\, In
X-ALT-DESC;FMTTYPE=text/html:<span style="language:en-US\;"><span style="color:black\;"><span style="font-family:lucida sans unicode\;"><span style="font-size:24.0pt\;">Ribbon Cutting Thursday\, May </span></span></span></span><span style="language:en-US\;"><span style="color:black\;"><span style="font-family:lucida sans unicode\;"><span style="font-size:24.0pt\;">19</span></span></span></span><br />\n<span style="language:en-US\;"><span style="color:black\;"><span style="font-family:lucida sans unicode\;"><span style="font-size:24.0pt\;">4:30 pm &ndash\; 7:00 pm</span></span></span></span><br />\n<span style="language:en-US\;"><span style="color:black\;"><span style="font-family:lucida sans unicode\;"><span style="font-size:24.0pt\;">9120 </span></span></span></span><span style="language:en-US\;"><span style="color:black\;"><span style="font-family:lucida sans unicode\;"><span style="font-size:24.0pt\;">Calumet Avenue</span></span></span></span><br />\n<span style="language:en-US\;"><span style="color:black\;"><span style="font-family:lucida sans unicode\;"><span style="font-size:24.0pt\;">Munster\, In</span></span></span></span>
LOCATION:
UID:e.1835.3271
SEQUENCE:3
DTSTAMP:20260421T115051Z
URL:https://business.munsterchamber.org/events/details/business-after-hours-homewood-suites-05-19-2016-3271
END:VEVENT

END:VCALENDAR
