BEGIN:VCALENDAR
VERSION:2.0
PRODID:-//ChamberMaster//Event Calendar 2.0//EN
METHOD:PUBLISH
X-PUBLISHED-TTL:P3D
REFRESH-INTERVAL:P3D
CALSCALE:GREGORIAN
BEGIN:VEVENT
DTSTART:20151022T220000Z
DTEND:20151023T003000Z
X-MICROSOFT-CDO-ALLDAYEVENT:FALSE
SUMMARY:Business After Hours - Petrungaro Plastic Surgery
DESCRIPTION:Business After Hours\n\nJason Petrungaro\nPetrungaro Plastic Surgery\n\n800 MacArthur Boulevard\, Suite 21\n\nMunster\, IN 46321\n\n(219) 836-1163 \n\ndoctorpetrungaro@gmail.com
X-ALT-DESC;FMTTYPE=text/html:<span style="font-size: 12px\;"><span style="font-family: arial\;">Business After Hours</span></span>\n\n<div class="txtHeading"><span style="font-size: 12px\;"><span style="font-family: arial\;">Jason Petrungaro</span></span></div>\n<span style="font-size: 12px\;"><span style="font-family: arial\;">Petrungaro Plastic Surgery<br />\n800 MacArthur Boulevard\, Suite 21<br />\nMunster\, IN 46321<br />\n(219) 836-1163 </span></span><br />\n<a class="lnkNormalOvr" style="font-size: 11px\;">doctorpetrungaro@gmail.com</a><br />\n<br />\n&nbsp\;
LOCATION:Petrungaro Plastic Surgery 800 MacArthur Boulevard\, Suite 21 Munster\, IN 46321
UID:e.1835.3026
SEQUENCE:3
DTSTAMP:20260421T204316Z
URL:https://business.munsterchamber.org/events/details/business-after-hours-petrungaro-plastic-surgery-10-22-2015-3026
END:VEVENT

END:VCALENDAR
