BEGIN:VCALENDAR
VERSION:2.0
PRODID:-//ChamberMaster//Event Calendar 2.0//EN
METHOD:PUBLISH
X-PUBLISHED-TTL:P3D
REFRESH-INTERVAL:P3D
CALSCALE:GREGORIAN
BEGIN:VEVENT
DTSTART:20160202T140000Z
DTEND:20160202T150000Z
X-MICROSOFT-CDO-ALLDAYEVENT:FALSE
SUMMARY:Executive Board Meeting
DESCRIPTION:Executive Board Meeting\n\nCLICK TO VIEW TENTATIVE AGENDA
X-ALT-DESC;FMTTYPE=text/html:Executive Board Meeting<br />\n<a href="http://cloud.chambermaster.com/userfiles/UserFiles/chambers/1835/File/2016FebruaryexecBoardAgenda.docx">CLICK TO VIEW TENTATIVE AGENDA</a>
LOCATION:Commander Restaurant
UID:e.1835.2895
SEQUENCE:3
DTSTAMP:20260421T152542Z
URL:https://business.munsterchamber.org/events/details/executive-board-meeting-02-02-2016-2895
END:VEVENT

END:VCALENDAR
