BEGIN:VCALENDAR
VERSION:2.0
PRODID:-//ChamberMaster//Event Calendar 2.0//EN
METHOD:PUBLISH
X-PUBLISHED-TTL:P3D
REFRESH-INTERVAL:P3D
CALSCALE:GREGORIAN
BEGIN:VEVENT
DTSTART:20160503T130000Z
DTEND:20160503T140000Z
X-MICROSOFT-CDO-ALLDAYEVENT:FALSE
SUMMARY:Executive Board Meeting
DESCRIPTION:Executive Board Meeting\n\nClick Here to view Agenda
X-ALT-DESC;FMTTYPE=text/html:Executive Board Meeting<br />\n<a href="https://chambermaster.blob.core.windows.net/userfiles/UserFiles/chambers/1835/File/2016MayexecBoardAgenda.docx">Click Here to view Agenda</a>
LOCATION:Commander Restaurant
UID:e.1835.2898
SEQUENCE:3
DTSTAMP:20260421T114746Z
URL:https://business.munsterchamber.org/events/details/executive-board-meeting-05-03-2016-2898
END:VEVENT

END:VCALENDAR
