BEGIN:VCALENDAR
VERSION:2.0
PRODID:-//ChamberMaster//Event Calendar 2.0//EN
METHOD:PUBLISH
X-PUBLISHED-TTL:P3D
REFRESH-INTERVAL:P3D
CALSCALE:GREGORIAN
BEGIN:VEVENT
DTSTART:20151006T130000Z
DTEND:20151006T140000Z
X-MICROSOFT-CDO-ALLDAYEVENT:FALSE
SUMMARY:Executive Board Meeting
DESCRIPTION:http://cloud.chambermaster.com/userfiles/UserFiles/chambers/1835/File/2015OctexecBoardAgenda.docx\n\nExecutive Board Meeting
X-ALT-DESC;FMTTYPE=text/html:<a href="http://cloud.chambermaster.com/userfiles/UserFiles/chambers/1835/File/2015OctexecBoardAgenda.docx">http://cloud.chambermaster.com/userfiles/UserFiles/chambers/1835/File/2015OctexecBoardAgenda.docx</a><br />\nExecutive Board Meeting
LOCATION:Commander Restaurant
UID:e.1835.2891
SEQUENCE:3
DTSTAMP:20260421T203620Z
URL:https://business.munsterchamber.org/events/details/executive-board-meeting-10-06-2015-2891
END:VEVENT

END:VCALENDAR
