BEGIN:VCALENDAR
VERSION:2.0
PRODID:-//ChamberMaster//Event Calendar 2.0//EN
METHOD:PUBLISH
X-PUBLISHED-TTL:P3D
REFRESH-INTERVAL:P3D
CALSCALE:GREGORIAN
BEGIN:VEVENT
DTSTART:20151201T140000Z
DTEND:20151201T150000Z
X-MICROSOFT-CDO-ALLDAYEVENT:FALSE
SUMMARY:Executive Board Meeting
DESCRIPTION:Executive Board Meeting\n\nReview 2016 Budget\n\nDiscuss December Luncheon - no speaker scheduled\n\nJanuary Luncheon - Committee Fair\n\nStatus update  on Breakfast with Santa - 12/5/15 and Annual Dinner 1/30/16
X-ALT-DESC;FMTTYPE=text/html:Executive Board Meeting<br />\nReview 2016 Budget<br />\nDiscuss December Luncheon - no speaker scheduled<br />\nJanuary Luncheon - Committee Fair<br />\nStatus update&nbsp\; on Breakfast with Santa - 12/5/15 and Annual Dinner 1/30/16
LOCATION:Commander Restaurant
UID:e.1835.2893
SEQUENCE:3
DTSTAMP:20260421T181734Z
URL:https://business.munsterchamber.org/events/details/executive-board-meeting-12-01-2015-2893
END:VEVENT

END:VCALENDAR
