BEGIN:VCALENDAR
VERSION:2.0
PRODID:-//ChamberMaster//Event Calendar 2.0//EN
METHOD:PUBLISH
X-PUBLISHED-TTL:P3D
REFRESH-INTERVAL:P3D
CALSCALE:GREGORIAN
BEGIN:VEVENT
DTSTART:20261201T150000Z
DTEND:20261201T160000Z
X-MICROSOFT-CDO-ALLDAYEVENT:FALSE
SUMMARY:Executive Board Meeting
DESCRIPTION:Executive Board Meeting
X-ALT-DESC;FMTTYPE=text/html:Executive Board Meeting
LOCATION:Town Hall Munster Chamber Office 1005 Ridge Road Munster\, IN
UID:e.1835.5091
SEQUENCE:3
DTSTAMP:20260426T000154Z
URL:https://business.munsterchamber.org/events/details/executive-board-meeting-5091
END:VEVENT

END:VCALENDAR
