BEGIN:VCALENDAR
VERSION:2.0
PRODID:-//ChamberMaster//Event Calendar 2.0//EN
METHOD:PUBLISH
X-PUBLISHED-TTL:P3D
REFRESH-INTERVAL:P3D
CALSCALE:GREGORIAN
BEGIN:VEVENT
DTSTART:20260108T173000Z
DTEND:20260108T190000Z
X-MICROSOFT-CDO-ALLDAYEVENT:FALSE
SUMMARY:General Membership Lunch 1/8/26
DESCRIPTION:General Membership Lunch
X-ALT-DESC;FMTTYPE=text/html:General Membership Lunch
LOCATION:Theo's Steak & Seafood 9144 Indianapolis Blvd Highland\, IN
UID:e.1835.5068
SEQUENCE:3
DTSTAMP:20260426T035516Z
URL:https://business.munsterchamber.org/events/details/general-membership-lunch-1-8-26-5068
END:VEVENT

END:VCALENDAR
