BEGIN:VCALENDAR
VERSION:2.0
PRODID:-//ChamberMaster//Event Calendar 2.0//EN
METHOD:PUBLISH
X-PUBLISHED-TTL:P3D
REFRESH-INTERVAL:P3D
CALSCALE:GREGORIAN
BEGIN:VEVENT
DTSTART:20261008T163000Z
DTEND:20261008T180000Z
X-MICROSOFT-CDO-ALLDAYEVENT:FALSE
SUMMARY:General Membership Lunch 10/8/26
DESCRIPTION:
X-ALT-DESC;FMTTYPE=text/html:
LOCATION:
UID:e.1835.5077
SEQUENCE:3
DTSTAMP:20260426T000343Z
URL:https://business.munsterchamber.org/events/details/general-membership-lunch-10-8-26-5077
END:VEVENT

END:VCALENDAR
