BEGIN:VCALENDAR
VERSION:2.0
PRODID:-//ChamberMaster//Event Calendar 2.0//EN
METHOD:PUBLISH
X-PUBLISHED-TTL:P3D
REFRESH-INTERVAL:P3D
CALSCALE:GREGORIAN
BEGIN:VEVENT
DTSTART:20260212T173000Z
DTEND:20260212T190000Z
X-MICROSOFT-CDO-ALLDAYEVENT:FALSE
SUMMARY:General Membership Lunch 2/12/26
DESCRIPTION:General Membership Lunch 2/12/2026 \n\nGuest Speaker - Gary Warfel
X-ALT-DESC;FMTTYPE=text/html:General Membership Lunch 2/12/2026&nbsp\;<br />\nGuest Speaker - Gary Warfel
LOCATION:CVPA 1040 Ridge Road Munster\, IN
UID:e.1835.5069
SEQUENCE:3
DTSTAMP:20260426T024610Z
URL:https://business.munsterchamber.org/events/details/general-membership-lunch-2-12-26-5069
END:VEVENT

END:VCALENDAR
