BEGIN:VCALENDAR
VERSION:2.0
PRODID:-//ChamberMaster//Event Calendar 2.0//EN
METHOD:PUBLISH
X-PUBLISHED-TTL:P3D
REFRESH-INTERVAL:P3D
CALSCALE:GREGORIAN
BEGIN:VEVENT
DTSTART:20260409T163000Z
DTEND:20260409T180000Z
X-MICROSOFT-CDO-ALLDAYEVENT:FALSE
SUMMARY:General Membership Lunch 4/9/26
DESCRIPTION:General Member Lunch\n\nJason Taylor \n\nIndiana Dunes State Park
X-ALT-DESC;FMTTYPE=text/html:General Member Lunch<br />\nJason Taylor&nbsp\;<br />\nIndiana Dunes State Park
LOCATION:CVPA 1040 Ridge Road Munster\, IN
UID:e.1835.5071
SEQUENCE:3
DTSTAMP:20260425T235932Z
URL:https://business.munsterchamber.org/events/details/general-membership-lunch-4-9-26-5071
END:VEVENT

END:VCALENDAR
