BEGIN:VCALENDAR
VERSION:2.0
PRODID:-//ChamberMaster//Event Calendar 2.0//EN
METHOD:PUBLISH
X-PUBLISHED-TTL:P3D
REFRESH-INTERVAL:P3D
CALSCALE:GREGORIAN
BEGIN:VEVENT
DTSTART:20260514T163000Z
DTEND:20260514T180000Z
X-MICROSOFT-CDO-ALLDAYEVENT:FALSE
SUMMARY:General Membership Lunch 5/14/26
DESCRIPTION:General Membership Lunch
X-ALT-DESC;FMTTYPE=text/html:General Membership Lunch
LOCATION:Danny Z's 1860 W 45th Street Munster\, IN
UID:e.1835.5072
SEQUENCE:3
DTSTAMP:20260424T125350Z
URL:https://business.munsterchamber.org/events/details/general-membership-lunch-5-14-26-5072
END:VEVENT

END:VCALENDAR
