BEGIN:VCALENDAR
VERSION:2.0
PRODID:-//ChamberMaster//Event Calendar 2.0//EN
METHOD:PUBLISH
X-PUBLISHED-TTL:P3D
REFRESH-INTERVAL:P3D
CALSCALE:GREGORIAN
BEGIN:VEVENT
DTSTART:20260813T163000Z
DTEND:20260813T180000Z
X-MICROSOFT-CDO-ALLDAYEVENT:FALSE
SUMMARY:General Membership Lunch 8/13/26
DESCRIPTION:
X-ALT-DESC;FMTTYPE=text/html:
LOCATION:
UID:e.1835.5075
SEQUENCE:3
DTSTAMP:20260425T033621Z
URL:https://business.munsterchamber.org/events/details/general-membership-lunch-8-13-26-5075
END:VEVENT

END:VCALENDAR
