BEGIN:VCALENDAR
VERSION:2.0
PRODID:-//ChamberMaster//Event Calendar 2.0//EN
METHOD:PUBLISH
X-PUBLISHED-TTL:P3D
REFRESH-INTERVAL:P3D
CALSCALE:GREGORIAN
BEGIN:VEVENT
DTSTART:20160310T173000Z
DTEND:20160310T190000Z
X-MICROSOFT-CDO-ALLDAYEVENT:FALSE
SUMMARY:General Membership Meeting
DESCRIPTION:General Membership Meeting \n\nDushan Nikolovski\, THE BIG SELL\n\n\n\nAgenda Ambassadors: Rosanne Loughmiller and Toni Lozano
X-ALT-DESC;FMTTYPE=text/html:General Membership Meeting&nbsp\;<br />\nDushan Nikolovski\, THE BIG SELL<br />\n<br />\nAgenda Ambassadors: Rosanne Loughmiller and Toni Lozano<br />\n&nbsp\;
LOCATION:South Side Christian Church 1000 Broadmoor\, Munster\, IN
UID:e.1835.3072
SEQUENCE:3
DTSTAMP:20260421T141522Z
URL:https://business.munsterchamber.org/events/details/general-membership-meeting-03-10-2016-3072
END:VEVENT

END:VCALENDAR
