BEGIN:VCALENDAR
VERSION:2.0
PRODID:-//ChamberMaster//Event Calendar 2.0//EN
METHOD:PUBLISH
X-PUBLISHED-TTL:P3D
REFRESH-INTERVAL:P3D
CALSCALE:GREGORIAN
BEGIN:VEVENT
DTSTART:20160414T163000Z
DTEND:20160414T180000Z
X-MICROSOFT-CDO-ALLDAYEVENT:FALSE
SUMMARY:General Membership Meeting
DESCRIPTION:General Membership Meeting \n\nSpeaker\n\nPhillip Foreman  Outreach Specialist / Fraud Analyst\n\nOffice of the Indiana Attorney General\n\nTopic:  Consumer Protection\, Data Breaches\, and Identity Theft
X-ALT-DESC;FMTTYPE=text/html:<span style="font-size:12px\;"><span style="font-family: arial\;">General Membership Meeting&nbsp\;</span></span>\n\n<div><span style="font-size:12px\;"><span style="font-family: arial\;">Speaker<br />\nPhillip Foreman&nbsp\; Outreach Specialist / Fraud Analyst<br />\n<span style="color: rgb(0\, 0\, 0)\;">Office of the Indiana Attorney General</span></span></span><br />\n<span style="color:#1F497D\;"><span style="font-family:calibri\,sans-serif\;"><span style="font-size:11.0pt\;">Topic:&nbsp\; Consumer Protection\, Data Breaches\, and Identity Theft</span></span></span></div>\n
LOCATION:Briar Ridge Country Club 123 Country Club Drive Schererville\, Indiana
UID:e.1835.3073
SEQUENCE:3
DTSTAMP:20260421T141421Z
URL:https://business.munsterchamber.org/events/details/general-membership-meeting-04-14-2016-3073
END:VEVENT

END:VCALENDAR
