BEGIN:VCALENDAR
VERSION:2.0
PRODID:-//ChamberMaster//Event Calendar 2.0//EN
METHOD:PUBLISH
X-PUBLISHED-TTL:P3D
REFRESH-INTERVAL:P3D
CALSCALE:GREGORIAN
BEGIN:VEVENT
DTSTART:20160512T163000Z
DTEND:20160512T180000Z
X-MICROSOFT-CDO-ALLDAYEVENT:FALSE
SUMMARY:General Membership Meeting
DESCRIPTION:General Membership Meeting \n\nChuck Hughes\, Executive Director Gary Chamber of Commerce\n Bob Heisse Editor of the Times\n\nCommunity Civility Counts
X-ALT-DESC;FMTTYPE=text/html:<span style="font-size:12px\;"><span style="font-family: arial\;">General Membership Meeting&nbsp\;</span></span>\n\n<div style="font-size: 12pt\; font-family: Arial\,Helvetica\,sans-serif\;"><span style="font-size:12px\;"><span style="font-family: arial\;">Chuck Hughes\, Executive Director Gary Chamber of Commerce</span></span></div>\n<span style="font-size:12px\;"> <span style="font-family: arial\;"><span _mce_style="font-size: 11.0pt\; font-family: 'Calibri'\,'sans-serif'\;">Bob Heisse Editor of the Times<br />\nCommunity Civility Counts</span></span></span><br />\n<br />\n&nbsp\;
LOCATION:Ridge United Methodist Church 8607 Columbia Avenue Munster\, IN
UID:e.1835.3074
SEQUENCE:3
DTSTAMP:20260421T114812Z
URL:https://business.munsterchamber.org/events/details/general-membership-meeting-05-12-2016-3074
END:VEVENT

END:VCALENDAR
