BEGIN:VCALENDAR
VERSION:2.0
PRODID:-//ChamberMaster//Event Calendar 2.0//EN
METHOD:PUBLISH
X-PUBLISHED-TTL:P3D
REFRESH-INTERVAL:P3D
CALSCALE:GREGORIAN
BEGIN:VEVENT
DTSTART:20150514T163000Z
DTEND:20150514T180000Z
X-MICROSOFT-CDO-ALLDAYEVENT:FALSE
SUMMARY:General Membership Meeting
DESCRIPTION:General Membership Meeting  \n\nCommunity Hospital\n\n2015 Make it Munster Sponsor\n\nPresents\n\nDr. Wayel Kaakaji \n\n"Deep Brain Stimulation   Instrument of Change"\n\nCommunity Care Network-Community Spine & Neurosurgery Institute\n\n\n\nDr. Kaakaji received his medical degree from University of Texas\, and completed his residency and internship at Cleveland Clinic. Dr. Kaakaji is Board Certified in neurosurgery and has many years of experience performing complex surgeries of the brain and spine. He specializes in all aspects of complex spine surgery and performs minimally invasive surgeries of the spine\, thus offering patients shorter recovery and better pain control.
X-ALT-DESC;FMTTYPE=text/html:General Membership Meeting&nbsp\;&nbsp\;<br />\n<span style="font-family: &quot\;Calibri&quot\;\,&quot\;sans-serif&quot\;\; font-size: 12pt\;">Community Hospital<br />\n2015 Make it Munster Sponsor<br />\nPresents<br />\nDr. Wayel Kaakaji&nbsp\;</span><br />\n<span style="color:#1F497D\;"><span style="font-family:calibri\,sans-serif\;"><span style="font-size:11.0pt\;">&ldquo\;Deep Brain Stimulation &ndash\; Instrument of Change&rdquo\;</span></span></span><br />\nCommunity Care Network-Community Spine &amp\; Neurosurgery Institute<br />\n<br />\nDr. Kaakaji received his medical degree from University of Texas\, and completed his residency and internship at Cleveland Clinic. Dr. Kaakaji is Board Certified in neurosurgery and has many years of experience performing complex surgeries of the brain and spine. He specializes in all aspects of complex spine surgery and performs minimally invasive surgeries of the spine\, thus offering patients shorter recovery and better pain control.
LOCATION:Ridge United Methodist Church 8607 Columbia Avenue Munster\, IN 46321 Catering by: Giovanni's Restaurant
UID:e.1835.2588
SEQUENCE:3
DTSTAMP:20260422T024245Z
URL:https://business.munsterchamber.org/events/details/general-membership-meeting-05-14-2015-2588
END:VEVENT

END:VCALENDAR
