BEGIN:VCALENDAR
VERSION:2.0
PRODID:-//ChamberMaster//Event Calendar 2.0//EN
METHOD:PUBLISH
X-PUBLISHED-TTL:P3D
REFRESH-INTERVAL:P3D
CALSCALE:GREGORIAN
BEGIN:VEVENT
DTSTART:20160609T163000Z
DTEND:20160609T180000Z
X-MICROSOFT-CDO-ALLDAYEVENT:FALSE
SUMMARY:General Membership Meeting
DESCRIPTION:General Membership Meeting \n\nFeatured Speakers\n\nCathy McGuckin \n\nIndiana Department of Revenue \n\n"Hot Topics" at DOR\n\n  Catered by:\n\nGiovannis Restaurant
X-ALT-DESC;FMTTYPE=text/html:General Membership Meeting&nbsp\;<br />\n<span style="color:black\;"><span style="font-family:arial\,sans-serif\;">Featured Speakers</span></span><br />\n<span style="color:black\;"><span style="font-family:arial\,sans-serif\;">Cathy McGuckin&nbsp\;</span></span><br />\n<span style="color:black\;"><span style="font-family:arial\,sans-serif\;">Indiana Department of Revenue&nbsp\;</span></span><br />\n<span style="color:black\;"><span style="font-family:arial\,sans-serif\;">&quot\;Hot Topics&quot\; at DOR</span></span><br />\n&nbsp\; <span style="color:black\;"><span style="font-family:arial\,sans-serif\;">Catered by:</span></span><br />\n<strong><em><span style="color:black\;"><span style="font-family:arial\,sans-serif\;">Giovannis Restaurant</span></span></em></strong><br />\n&nbsp\;
LOCATION:Ridge United Methodist Church 8607 Columbia Avenue Munster\, IN
UID:e.1835.3075
SEQUENCE:3
DTSTAMP:20260421T104642Z
URL:https://business.munsterchamber.org/events/details/general-membership-meeting-06-09-2016-3075
END:VEVENT

END:VCALENDAR
