BEGIN:VCALENDAR
VERSION:2.0
PRODID:-//ChamberMaster//Event Calendar 2.0//EN
METHOD:PUBLISH
X-PUBLISHED-TTL:P3D
REFRESH-INTERVAL:P3D
CALSCALE:GREGORIAN
BEGIN:VEVENT
DTSTART:20150611T163000Z
DTEND:20150611T180000Z
X-MICROSOFT-CDO-ALLDAYEVENT:FALSE
SUMMARY:General Membership Meeting
DESCRIPTION:General Membership Meeting
X-ALT-DESC;FMTTYPE=text/html:General Membership Meeting&nbsp\;&nbsp\;<br />\n&nbsp\;
LOCATION:Ridge United Methodist Church
UID:e.1835.2589
SEQUENCE:3
DTSTAMP:20260422T024214Z
URL:https://business.munsterchamber.org/events/details/general-membership-meeting-06-11-2015-2589
END:VEVENT

END:VCALENDAR
