BEGIN:VCALENDAR
VERSION:2.0
PRODID:-//ChamberMaster//Event Calendar 2.0//EN
METHOD:PUBLISH
X-PUBLISHED-TTL:P3D
REFRESH-INTERVAL:P3D
CALSCALE:GREGORIAN
BEGIN:VEVENT
DTSTART:20150709T163000Z
DTEND:20150709T180000Z
X-MICROSOFT-CDO-ALLDAYEVENT:FALSE
SUMMARY:General Membership Meeting
DESCRIPTION:General Membership Meeting  \n\nMunster High School Meeting\n\nScholarship Recipient Taylor Kotzo\n\nWe The People\n\n\n\n\n\nAgenda Distribution - Candice and Dave
X-ALT-DESC;FMTTYPE=text/html:General Membership Meeting&nbsp\;&nbsp\;<br />\nMunster High School Meeting<br />\nScholarship Recipient Taylor Kotzo<br />\nWe The People<br />\n<br />\n<br />\nAgenda Distribution - Candice and Dave<br />\n&nbsp\;
LOCATION:Center for Visual and Performing Arts
UID:e.1835.2590
SEQUENCE:3
DTSTAMP:20260422T001809Z
URL:https://business.munsterchamber.org/events/details/general-membership-meeting-07-09-2015-2590
END:VEVENT

END:VCALENDAR
