BEGIN:VCALENDAR
VERSION:2.0
PRODID:-//ChamberMaster//Event Calendar 2.0//EN
METHOD:PUBLISH
X-PUBLISHED-TTL:P3D
REFRESH-INTERVAL:P3D
CALSCALE:GREGORIAN
BEGIN:VEVENT
DTSTART:20150813T163000Z
DTEND:20150813T180000Z
X-MICROSOFT-CDO-ALLDAYEVENT:FALSE
SUMMARY:General Membership Meeting
DESCRIPTION:General Membership Meeting  \n\nCraig Harrell\n\nHospice of the Calumet Area\n\n\n\nGrief in the Workplace\n\n\n\nRegistration: Candice\n\nWelcome and Agenda Distribution:  Kim\, Cindi and Dave
X-ALT-DESC;FMTTYPE=text/html:General Membership Meeting&nbsp\;&nbsp\;<br />\nCraig Harrell<br />\nHospice of the Calumet Area<br />\n<br />\nGrief in the Workplace<br />\n<br />\nRegistration: Candice<br />\nWelcome and Agenda Distribution:&nbsp\; Kim\, Cindi and Dave
LOCATION:Ridge United Methodist Church 8607 Columbia Avenue Munster\, IN 46321
UID:e.1835.2591
SEQUENCE:3
DTSTAMP:20260421T230404Z
URL:https://business.munsterchamber.org/events/details/general-membership-meeting-08-13-2015-2591
END:VEVENT

END:VCALENDAR
