BEGIN:VCALENDAR
VERSION:2.0
PRODID:-//ChamberMaster//Event Calendar 2.0//EN
METHOD:PUBLISH
X-PUBLISHED-TTL:P3D
REFRESH-INTERVAL:P3D
CALSCALE:GREGORIAN
BEGIN:VEVENT
DTSTART:20150910T163000Z
DTEND:20150910T180000Z
X-MICROSOFT-CDO-ALLDAYEVENT:FALSE
SUMMARY:General Membership Meeting - 09/10/2015
DESCRIPTION:General Membership Meeting  \n\n\n\nDustin Anderson\n\nTown of Munster Town Manager\n\n\n\nWelcome Members and Agenda Distribution:\n\nBrad\, Bridget and Pat
X-ALT-DESC;FMTTYPE=text/html:General Membership Meeting&nbsp\;&nbsp\;<br>\n<br>\nDustin Anderson<br>\nTown of Munster Town Manager<br>\n<br>\nWelcome Members and Agenda Distribution:<br>\nBrad\, Bridget and Pat<br>\n<br>\n&nbsp\;
LOCATION:Ridge United Methodist Church 8607 Columbia Avenue Munster\, IN 46321
UID:e.1835.2833
SEQUENCE:3
DTSTAMP:20260421T215547Z
URL:https://business.munsterchamber.org/events/details/general-membership-meeting-09-10-2015-09-10-2015-2833
END:VEVENT

END:VCALENDAR
