BEGIN:VCALENDAR
VERSION:2.0
PRODID:-//ChamberMaster//Event Calendar 2.0//EN
METHOD:PUBLISH
X-PUBLISHED-TTL:P3D
REFRESH-INTERVAL:P3D
CALSCALE:GREGORIAN
BEGIN:VEVENT
DTSTART:20160114T173000Z
DTEND:20160114T190000Z
X-MICROSOFT-CDO-ALLDAYEVENT:FALSE
SUMMARY:General Membership Meeting 1/14/2016
DESCRIPTION:General Membership Meeting \n\nCommittee Fair
X-ALT-DESC;FMTTYPE=text/html:General Membership Meeting&nbsp\;<br />\nCommittee Fair
LOCATION:Center for Visual and Performing Arts 1040 Ridge Road Munster\, IN 46321
UID:e.1835.3030
SEQUENCE:3
DTSTAMP:20260421T180644Z
URL:https://business.munsterchamber.org/events/details/general-membership-meeting-1-14-2016-01-14-2016-3030
END:VEVENT

END:VCALENDAR
