BEGIN:VCALENDAR
VERSION:2.0
PRODID:-//ChamberMaster//Event Calendar 2.0//EN
METHOD:PUBLISH
X-PUBLISHED-TTL:P3D
REFRESH-INTERVAL:P3D
CALSCALE:GREGORIAN
BEGIN:VEVENT
DTSTART:20151008T163000Z
DTEND:20151008T180000Z
X-MICROSOFT-CDO-ALLDAYEVENT:FALSE
SUMMARY:General Membership Meeting - 10/08/2015
DESCRIPTION:General Membership Meeting\n\n"Not So Scary" Networking Meeting\n\n"Who Knew"\n\nWe will discuss three unique items about you or your business. \n\nEdwardo's Pizza will be served. \n\nRegister Online and select your pizza choice\n\nSausage\, Cheese\, or Spinach...Please enter your choice in the comments area
X-ALT-DESC;FMTTYPE=text/html:General Membership Meeting<br />\n&quot\;Not So Scary&quot\; Networking Meeting<br />\n&quot\;Who Knew&quot\;<br />\nWe will discuss three unique items about you or your business.&nbsp\;<br />\nEdwardo&#39\;s Pizza will be served.&nbsp\;<br />\nRegister Online and <strong>select your pizza choice<br />\nSausage\, Cheese\, or Spinach...Please enter your choice in the comments area</strong>
LOCATION:South Side Christian Church 1000 Broadmoor Munster\, IN Important Information Look for directional signs pointing out the entrances for members to use. Drive carefully across the church campus\, as our morning Preschool will be letting out as many of our members arrive. Parking spaces are available on the Broadmoor Avenue entrance (entrance 6) and in the south parking lot(use entrance 3) and the office parking area. Note that the handicap parking area on the Tapper Street (west)side of the building near the office and canopy entrance (entrance 1) will be available (it is a designated parking area only on Sundays). For those parking in the south parking lot\, please avoid entrance 2\, as it is the pick-up point for our preschool children. The best access to the South Side building for the Chamber meeting will be through entrances 1\, 3 and 6. Looking forward to having everyone visit South Side!
UID:e.1835.2844
SEQUENCE:3
DTSTAMP:20260421T203833Z
URL:https://business.munsterchamber.org/events/details/general-membership-meeting-10-08-2015-10-08-2015-2844
END:VEVENT

END:VCALENDAR
