BEGIN:VCALENDAR
VERSION:2.0
PRODID:-//ChamberMaster//Event Calendar 2.0//EN
METHOD:PUBLISH
X-PUBLISHED-TTL:P3D
REFRESH-INTERVAL:P3D
CALSCALE:GREGORIAN
BEGIN:VEVENT
DTSTART:20150512T140000Z
DTEND:20150512T150000Z
X-MICROSOFT-CDO-ALLDAYEVENT:FALSE
SUMMARY:Golf Outing Committe Meeting
DESCRIPTION:Time to get our 55th Annual Golf outing organized and promoted.
X-ALT-DESC;FMTTYPE=text/html:Time to get our 55th Annual Golf outing organized and promoted.<br />\n&nbsp\;&nbsp\;&nbsp\;&nbsp\;
LOCATION:Muntser Chamber of Commerce office 1040 Ridge Road Munster\, IN 46321
UID:e.1835.2671
SEQUENCE:3
DTSTAMP:20260422T024013Z
URL:https://business.munsterchamber.org/events/details/golf-outing-committe-meeting-05-12-2015-2671
END:VEVENT

END:VCALENDAR
