BEGIN:VCALENDAR
VERSION:2.0
PRODID:-//ChamberMaster//Event Calendar 2.0//EN
METHOD:PUBLISH
X-PUBLISHED-TTL:P3D
REFRESH-INTERVAL:P3D
CALSCALE:GREGORIAN
BEGIN:VEVENT
DTSTART:20160227T233000Z
DTEND:20160228T013000Z
X-MICROSOFT-CDO-ALLDAYEVENT:FALSE
SUMMARY:Heart to Heart Fundraiser Dinner
DESCRIPTION:Heart to Heart Dinner Saturday February 27\, 2016 includes salad\, roast beef dinner and desert. Dinner is served from 5:30 pm to 7:30 pm. All proceeds support the mission and work of The Salvation Army. You can purchase tickets in advance at The Salvation Army\, 8225 Columbia Avenue\, Munster\, IN 46321 - Monday through Friday 8:30 to Noon and 1:00 to 4:00 - phone number 219-838-0380\; credit debit payments accepted at the door
X-ALT-DESC;FMTTYPE=text/html:Heart to Heart Dinner Saturday February 27\, 2016 includes salad\, roast beef dinner and desert. Dinner is served from 5:30 pm to 7:30 pm. All proceeds support the mission and work of The Salvation Army. You can purchase tickets in advance at The Salvation Army\, 8225 Columbia Avenue\, Munster\, IN 46321 - Monday through Friday 8:30 to Noon and 1:00 to 4:00 - phone number 219-838-0380\; credit debit payments accepted at the door
LOCATION:The Salvation Army 8225 Columbia Avenue Munster\, IN 46321
UID:e.1835.3238
SEQUENCE:3
DTSTAMP:20260421T153149Z
URL:https://business.munsterchamber.org/events/details/heart-to-heart-fundraiser-dinner-02-27-2016-3238
END:VEVENT

END:VCALENDAR
