BEGIN:VCALENDAR
VERSION:2.0
PRODID:-//ChamberMaster//Event Calendar 2.0//EN
METHOD:PUBLISH
X-PUBLISHED-TTL:P3D
REFRESH-INTERVAL:P3D
CALSCALE:GREGORIAN
BEGIN:VEVENT
DTSTART:20150925T170000Z
DTEND:20150925T170000Z
X-MICROSOFT-CDO-ALLDAYEVENT:FALSE
SUMMARY:Hooray for Hollywood
DESCRIPTION:Northwest Indiana Symphony Orchestra's opening concert of the season! Maestro Muspratt will give behind-the-scenes stories of some of the most beautiful and beloved pieces\, showing you how music enhances a scene. Film clips and still photos will accompany the music.
X-ALT-DESC;FMTTYPE=text/html:Northwest Indiana Symphony Orchestra&#39\;s opening concert of the season! Maestro Muspratt will give behind-the-scenes stories of some of the most beautiful and beloved pieces\, showing you how music enhances a scene. Film clips and still photos will accompany the music.
LOCATION:Star Plaza Theatre
UID:e.1835.2880
SEQUENCE:3
DTSTAMP:20260421T230415Z
URL:https://business.munsterchamber.org/events/details/hooray-for-hollywood-09-25-2015-2880
END:VEVENT

END:VCALENDAR
