BEGIN:VCALENDAR
VERSION:2.0
PRODID:-//ChamberMaster//Event Calendar 2.0//EN
METHOD:PUBLISH
X-PUBLISHED-TTL:P3D
REFRESH-INTERVAL:P3D
CALSCALE:GREGORIAN
BEGIN:VEVENT
DTSTART;VALUE=DATE:20150920
DTEND;VALUE=DATE:20150921
TRANSP:TRANSPARENT
X-MICROSOFT-CDO-ALLDAYEVENT:TRUE
SUMMARY:Hospice Hustle
DESCRIPTION:25\, 62\, or 100 mile cycling event
X-ALT-DESC;FMTTYPE=text/html:25\, 62\, or 100 mile cycling event&nbsp\;&nbsp\;&nbsp\;&nbsp\;&nbsp\;&nbsp\;&nbsp\;
LOCATION:Begins at Lake County Fair Grounds
UID:e.1835.3019
SEQUENCE:3
DTSTAMP:20260421T215304Z
URL:https://business.munsterchamber.org/events/details/hospice-hustle-09-20-2015-3019
END:VEVENT

END:VCALENDAR
